BEGIN:VCALENDAR
VERSION:2.0
PRODID:icalendar-ruby
CALSCALE:GREGORIAN
METHOD:PUBLISH
BEGIN:VEVENT
DTSTAMP:20260425T033145Z
UID:b8632b72-4361-4bed-b149-9768675332ae
DTSTART;VALUE=DATE:20250422
DTEND;VALUE=DATE:20250422
DESCRIPTION:Trumbull BMX
LOCATION:370 Indian Ledge Park Dr  Trumbull CT 06611 USA
SUMMARY:Local Race Single
URL:/site/bmx_races/578075
END:VEVENT
END:VCALENDAR
