BEGIN:VCALENDAR
VERSION:2.0
PRODID:icalendar-ruby
CALSCALE:GREGORIAN
METHOD:PUBLISH
BEGIN:VEVENT
DTSTAMP:20260425T133434Z
UID:3ed8bbd1-40cc-4e1f-9fb9-394a73af0d76
DTSTART;VALUE=DATE:20250708
DTEND;VALUE=DATE:20250708
DESCRIPTION:Gallatin Valley BMX
LOCATION: 620 N 5th Ave  Bozeman MT 59715 USA
SUMMARY:Local Race Single
URL:/site/bmx_races/578002
END:VEVENT
END:VCALENDAR
