BEGIN:VCALENDAR
VERSION:2.0
PRODID:icalendar-ruby
CALSCALE:GREGORIAN
METHOD:PUBLISH
BEGIN:VEVENT
DTSTAMP:20260426T040009Z
UID:2f26db0d-2446-4450-8515-cb41604adef7
DTSTART;VALUE=DATE:20251015
DTEND;VALUE=DATE:20251015
DESCRIPTION:Richfield Park BMX
LOCATION:6550 N Irish Road  Davison MI 48423 USA
SUMMARY:Local Race Single
URL:/site/bmx_races/577973
END:VEVENT
END:VCALENDAR
