BEGIN:VCALENDAR
VERSION:2.0
PRODID:icalendar-ruby
CALSCALE:GREGORIAN
METHOD:PUBLISH
BEGIN:VEVENT
DTSTAMP:20260424T072233Z
UID:a0135de1-e633-469b-b928-ff1c9ebd5fdc
DTSTART;VALUE=DATE:20251022
DTEND;VALUE=DATE:20251022
DESCRIPTION:CNY BMX
LOCATION:408 Pritchard Ave  Bridgewater NY 13313 USA
SUMMARY:Local Race Single
URL:/site/bmx_races/577874
END:VEVENT
END:VCALENDAR
