BEGIN:VCALENDAR
VERSION:2.0
PRODID:icalendar-ruby
CALSCALE:GREGORIAN
METHOD:PUBLISH
BEGIN:VEVENT
DTSTAMP:20260424T234759Z
UID:1bfc7e9f-a957-4bbc-aa9d-e5bb161ab91c
DTSTART;VALUE=DATE:20250924
DTEND;VALUE=DATE:20250924
DESCRIPTION:CNY BMX
LOCATION:408 Pritchard Ave  Bridgewater NY 13313 USA
SUMMARY:Local Race Single
URL:/site/bmx_races/577867
END:VEVENT
END:VCALENDAR
