BEGIN:VCALENDAR
VERSION:2.0
PRODID:icalendar-ruby
CALSCALE:GREGORIAN
METHOD:PUBLISH
BEGIN:VEVENT
DTSTAMP:20260425T030641Z
UID:fc61a75c-4cdf-41bf-bab0-cc25177e0efc
DTSTART;VALUE=DATE:20250714
DTEND;VALUE=DATE:20250714
DESCRIPTION:CNY BMX
LOCATION:408 Pritchard Ave  Bridgewater NY 13313 USA
SUMMARY:Practice
URL:/site/bmx_races/577847
END:VEVENT
END:VCALENDAR
