BEGIN:VCALENDAR
VERSION:2.0
PRODID:icalendar-ruby
CALSCALE:GREGORIAN
METHOD:PUBLISH
BEGIN:VEVENT
DTSTAMP:20260424T063205Z
UID:733d932e-1019-4f68-b840-30fa45e7fbd3
DTSTART;VALUE=DATE:20250531
DTEND;VALUE=DATE:20250531
DESCRIPTION:Cowtown BMX
LOCATION:447 Haltom Rd  Ft. Worth TX 76117 USA
SUMMARY:Gold Cup Qualifier Triple
URL:/site/bmx_races/577729
END:VEVENT
END:VCALENDAR
