BEGIN:VCALENDAR
VERSION:2.0
PRODID:icalendar-ruby
CALSCALE:GREGORIAN
METHOD:PUBLISH
BEGIN:VEVENT
DTSTAMP:20260425T200103Z
UID:9111589f-9827-47e7-a0d7-55e7afb8f98b
DTSTART;VALUE=DATE:20250629
DTEND;VALUE=DATE:20250629
DESCRIPTION:Eagle Park BMX
LOCATION:11800 N Horseshoe Bend Rd  Eagle ID 83616 USA
SUMMARY:Gold Cup Qualifier Triple
URL:/site/bmx_races/577648
END:VEVENT
END:VCALENDAR
