BEGIN:VCALENDAR
VERSION:2.0
PRODID:icalendar-ruby
CALSCALE:GREGORIAN
METHOD:PUBLISH
BEGIN:VEVENT
DTSTAMP:20260424T034910Z
UID:f8e40e48-e231-4bea-a050-919a8b33fcf3
DTSTART;VALUE=DATE:20250426
DTEND;VALUE=DATE:20250426
DESCRIPTION:Naples BMX
LOCATION:4701 Golden Gate Parkway  Naples FL 34116 USA
SUMMARY:Gold Cup Qualifier Triple
URL:/site/bmx_races/577631
END:VEVENT
END:VCALENDAR
