BEGIN:VCALENDAR
VERSION:2.0
PRODID:icalendar-ruby
CALSCALE:GREGORIAN
METHOD:PUBLISH
BEGIN:VEVENT
DTSTAMP:20260425T234527Z
UID:3a490b6d-7447-4e51-aeae-48a1e329050c
DTSTART;VALUE=DATE:20250501
DTEND;VALUE=DATE:20250501
DESCRIPTION:Waterford Oaks BMX
LOCATION:1702 Scott Lake Rd  Waterford MI 48328 USA
SUMMARY:Local Race Single
URL:/site/bmx_races/577511
END:VEVENT
END:VCALENDAR
