BEGIN:VCALENDAR
VERSION:2.0
PRODID:icalendar-ruby
CALSCALE:GREGORIAN
METHOD:PUBLISH
BEGIN:VEVENT
DTSTAMP:20260425T113047Z
UID:765db4f5-8804-4309-a28f-b2065fb27c2f
DTSTART;VALUE=DATE:20250815
DTEND;VALUE=DATE:20250815
DESCRIPTION:Can Am BMX
LOCATION:8345 County Park Rd  Goodells MI 48027 USA
SUMMARY:Local Race Single
URL:/site/bmx_races/577488
END:VEVENT
END:VCALENDAR
