BEGIN:VCALENDAR
VERSION:2.0
PRODID:icalendar-ruby
CALSCALE:GREGORIAN
METHOD:PUBLISH
BEGIN:VEVENT
DTSTAMP:20260424T185850Z
UID:dc69f6b4-5350-433e-b685-9194ede7ef98
DTSTART;VALUE=DATE:20251213
DTEND;VALUE=DATE:20251213
DESCRIPTION:Desoto BMX
LOCATION:Grimes Park 500 E. Centre Park Blvd Desoto TX 75115 USA
SUMMARY:Local Race Single
URL:/site/bmx_races/577386
END:VEVENT
END:VCALENDAR
