BEGIN:VCALENDAR
VERSION:2.0
PRODID:icalendar-ruby
CALSCALE:GREGORIAN
METHOD:PUBLISH
BEGIN:VEVENT
DTSTAMP:20260425T011900Z
UID:42701328-4ee3-4ed7-b2c2-a4ab1cabf2f6
DTSTART;VALUE=DATE:20250725
DTEND;VALUE=DATE:20250725
DESCRIPTION:Desoto BMX
LOCATION:Grimes Park 500 E. Centre Park Blvd Desoto TX 75115 USA
SUMMARY:Local Race Single
URL:/site/bmx_races/577314
END:VEVENT
END:VCALENDAR
