BEGIN:VCALENDAR
VERSION:2.0
PRODID:icalendar-ruby
CALSCALE:GREGORIAN
METHOD:PUBLISH
BEGIN:VEVENT
DTSTAMP:20260425T110711Z
UID:cd7e67f5-8f33-44a3-8cac-7ff95cb3b8a5
DTSTART;VALUE=DATE:20250122
DTEND;VALUE=DATE:20250122
DESCRIPTION:Desoto BMX
LOCATION:Grimes Park 500 E. Centre Park Blvd Desoto TX 75115 USA
SUMMARY:Practice
URL:/site/bmx_races/577235
END:VEVENT
END:VCALENDAR
