BEGIN:VCALENDAR
VERSION:2.0
PRODID:icalendar-ruby
CALSCALE:GREGORIAN
METHOD:PUBLISH
BEGIN:VEVENT
DTSTAMP:20260424T221750Z
UID:21d99980-e7a3-49a7-a673-94efec4d15d7
DTSTART;VALUE=DATE:20250901
DTEND;VALUE=DATE:20250901
DESCRIPTION:Desoto BMX
LOCATION:Grimes Park 500 E. Centre Park Blvd Desoto TX 75115 USA
SUMMARY:Practice
URL:/site/bmx_races/577215
END:VEVENT
END:VCALENDAR
