BEGIN:VCALENDAR
VERSION:2.0
PRODID:icalendar-ruby
CALSCALE:GREGORIAN
METHOD:PUBLISH
BEGIN:VEVENT
DTSTAMP:20260424T101309Z
UID:823d9ae4-2627-4ea2-82dc-b3e35051fc45
DTSTART;VALUE=DATE:20250809
DTEND;VALUE=DATE:20250809
DESCRIPTION:North Bay BMX
LOCATION:3291 Streblow Dr  Napa CA 94558 USA
SUMMARY:Local Race Single
URL:/site/bmx_races/576949
END:VEVENT
END:VCALENDAR
