BEGIN:VCALENDAR
VERSION:2.0
PRODID:icalendar-ruby
CALSCALE:GREGORIAN
METHOD:PUBLISH
BEGIN:VEVENT
DTSTAMP:20260424T071000Z
UID:bf3ba427-317c-408b-ba5d-b2f62fb3a0a7
DTSTART;VALUE=DATE:20250621
DTEND;VALUE=DATE:20250621
DESCRIPTION:North Bay BMX
LOCATION:3291 Streblow Dr  Napa CA 94558 USA
SUMMARY:Local Race Single
URL:/site/bmx_races/576935
END:VEVENT
END:VCALENDAR
