BEGIN:VCALENDAR
VERSION:2.0
PRODID:icalendar-ruby
CALSCALE:GREGORIAN
METHOD:PUBLISH
BEGIN:VEVENT
DTSTAMP:20260424T230053Z
UID:c0bfe8ea-50e8-4c31-bb1a-0c459c5a591e
DTSTART;VALUE=DATE:20250607
DTEND;VALUE=DATE:20250607
DESCRIPTION:North Bay BMX
LOCATION:3291 Streblow Dr  Napa CA 94558 USA
SUMMARY:Local Race Single
URL:/site/bmx_races/576931
END:VEVENT
END:VCALENDAR
