BEGIN:VCALENDAR
VERSION:2.0
PRODID:icalendar-ruby
CALSCALE:GREGORIAN
METHOD:PUBLISH
BEGIN:VEVENT
DTSTAMP:20260425T003911Z
UID:316ad1f3-3926-41a5-bc62-9437403793f5
DTSTART;VALUE=DATE:20250308
DTEND;VALUE=DATE:20250308
DESCRIPTION:North Bay BMX
LOCATION:3291 Streblow Dr  Napa CA 94558 USA
SUMMARY:Local Race Single
URL:/site/bmx_races/576905
END:VEVENT
END:VCALENDAR
