BEGIN:VCALENDAR
VERSION:2.0
PRODID:icalendar-ruby
CALSCALE:GREGORIAN
METHOD:PUBLISH
BEGIN:VEVENT
DTSTAMP:20260424T082047Z
UID:322690ee-3bed-4010-b9a2-32338e4de341
DTSTART;VALUE=DATE:20250306
DTEND;VALUE=DATE:20250306
DESCRIPTION:North Bay BMX
LOCATION:3291 Streblow Dr  Napa CA 94558 USA
SUMMARY:Local Race Single
URL:/site/bmx_races/576904
END:VEVENT
END:VCALENDAR
