BEGIN:VCALENDAR
VERSION:2.0
PRODID:icalendar-ruby
CALSCALE:GREGORIAN
METHOD:PUBLISH
BEGIN:VEVENT
DTSTAMP:20260426T011521Z
UID:56d5735d-966e-4c8a-bd0a-d3ed23565af1
DTSTART;VALUE=DATE:20250301
DTEND;VALUE=DATE:20250301
DESCRIPTION:Mayes County BMX
LOCATION:526 Airport Rd At Hwy 69 S  Pryor OK 74363 USA
SUMMARY:Local Race Single
URL:/site/bmx_races/576717
END:VEVENT
END:VCALENDAR
