BEGIN:VCALENDAR
VERSION:2.0
PRODID:icalendar-ruby
CALSCALE:GREGORIAN
METHOD:PUBLISH
BEGIN:VEVENT
DTSTAMP:20260425T234651Z
UID:465d55ac-e8c7-419b-81f0-3183249aa730
DTSTART;VALUE=DATE:20250527
DTEND;VALUE=DATE:20250527
DESCRIPTION:Mayes County BMX
LOCATION:526 Airport Rd At Hwy 69 S  Pryor OK 74363 USA
SUMMARY:Practice
URL:/site/bmx_races/576666
END:VEVENT
END:VCALENDAR
