BEGIN:VCALENDAR
VERSION:2.0
PRODID:icalendar-ruby
CALSCALE:GREGORIAN
METHOD:PUBLISH
BEGIN:VEVENT
DTSTAMP:20260424T104429Z
UID:082ab777-cfa6-44e6-91d7-8dae151a4802
DTSTART;VALUE=DATE:20251119
DTEND;VALUE=DATE:20251119
DESCRIPTION:Noonday BMX
LOCATION:547 Shallowford Rd Ne  Marietta GA 30144 USA
SUMMARY:Practice
URL:/site/bmx_races/576617
END:VEVENT
END:VCALENDAR
