BEGIN:VCALENDAR
VERSION:2.0
PRODID:icalendar-ruby
CALSCALE:GREGORIAN
METHOD:PUBLISH
BEGIN:VEVENT
DTSTAMP:20260424T120344Z
UID:ad0a8844-073d-4442-bb2f-03a90928b980
DTSTART;VALUE=DATE:20251008
DTEND;VALUE=DATE:20251008
DESCRIPTION:Noonday BMX
LOCATION:547 Shallowford Rd Ne  Marietta GA 30144 USA
SUMMARY:Practice
URL:/site/bmx_races/576611
END:VEVENT
END:VCALENDAR
