BEGIN:VCALENDAR
VERSION:2.0
PRODID:icalendar-ruby
CALSCALE:GREGORIAN
METHOD:PUBLISH
BEGIN:VEVENT
DTSTAMP:20260424T233809Z
UID:0ccd4b23-3743-468b-be61-23d3675a2c9d
DTSTART;VALUE=DATE:20250326
DTEND;VALUE=DATE:20250326
DESCRIPTION:Noonday BMX
LOCATION:547 Shallowford Rd Ne  Marietta GA 30144 USA
SUMMARY:Practice
URL:/site/bmx_races/576583
END:VEVENT
END:VCALENDAR
