BEGIN:VCALENDAR
VERSION:2.0
PRODID:icalendar-ruby
CALSCALE:GREGORIAN
METHOD:PUBLISH
BEGIN:VEVENT
DTSTAMP:20260425T144256Z
UID:6c6c8352-ee14-4c15-9ecf-28bb04489e37
DTSTART;VALUE=DATE:20250927
DTEND;VALUE=DATE:20250927
DESCRIPTION:Smoky Mountain BMX
LOCATION:3100 Lorino Park Road  Morristown TN 37813 USA
SUMMARY:Local Race Single
URL:/site/bmx_races/576222
END:VEVENT
END:VCALENDAR
