BEGIN:VCALENDAR
VERSION:2.0
PRODID:icalendar-ruby
CALSCALE:GREGORIAN
METHOD:PUBLISH
BEGIN:VEVENT
DTSTAMP:20260425T174036Z
UID:e66957aa-f1ec-49c2-bf63-2f9922ad43a6
DTSTART;VALUE=DATE:20250703
DTEND;VALUE=DATE:20250703
DESCRIPTION:Smoky Mountain BMX
LOCATION:3100 Lorino Park Road  Morristown TN 37813 USA
SUMMARY:Practice
URL:/site/bmx_races/576186
END:VEVENT
END:VCALENDAR
