BEGIN:VCALENDAR
VERSION:2.0
PRODID:icalendar-ruby
CALSCALE:GREGORIAN
METHOD:PUBLISH
BEGIN:VEVENT
DTSTAMP:20260425T191027Z
UID:c27ab427-095c-4a93-bddb-6b34fba45c3b
DTSTART;VALUE=DATE:20250503
DTEND;VALUE=DATE:20250503
DESCRIPTION:Smoky Mountain BMX
LOCATION:3100 Lorino Park Road  Morristown TN 37813 USA
SUMMARY:Practice
URL:/site/bmx_races/576160
END:VEVENT
END:VCALENDAR
