BEGIN:VCALENDAR
VERSION:2.0
PRODID:icalendar-ruby
CALSCALE:GREGORIAN
METHOD:PUBLISH
BEGIN:VEVENT
DTSTAMP:20260425T204540Z
UID:5e5840b3-ff8d-47fe-8882-601ac108b8e1
DTSTART;VALUE=DATE:20250401
DTEND;VALUE=DATE:20250401
DESCRIPTION:Smoky Mountain BMX
LOCATION:3100 Lorino Park Road  Morristown TN 37813 USA
SUMMARY:Practice
URL:/site/bmx_races/576147
END:VEVENT
END:VCALENDAR
