BEGIN:VCALENDAR
VERSION:2.0
PRODID:icalendar-ruby
CALSCALE:GREGORIAN
METHOD:PUBLISH
BEGIN:VEVENT
DTSTAMP:20260424T215411Z
UID:7805f1be-a166-46a4-b26e-ace6dbbb781c
DTSTART;VALUE=DATE:20250620
DTEND;VALUE=DATE:20250620
DESCRIPTION:Whip City BMX
LOCATION:137 Russellville Road Westfield  Westfield MA 1085 USA
SUMMARY:Local Race Single
URL:/site/bmx_races/576104
END:VEVENT
END:VCALENDAR
