BEGIN:VCALENDAR
VERSION:2.0
PRODID:icalendar-ruby
CALSCALE:GREGORIAN
METHOD:PUBLISH
BEGIN:VEVENT
DTSTAMP:20260424T221745Z
UID:25b67df0-4a9f-41a2-8b11-40607e24a20c
DTSTART;VALUE=DATE:20250916
DTEND;VALUE=DATE:20250916
DESCRIPTION:Blue Springs BMX
LOCATION:2715 Nw Park Drive  Blue Springs MO 64015 USA
SUMMARY:Practice
URL:/site/bmx_races/576021
END:VEVENT
END:VCALENDAR
