BEGIN:VCALENDAR
VERSION:2.0
PRODID:icalendar-ruby
CALSCALE:GREGORIAN
METHOD:PUBLISH
BEGIN:VEVENT
DTSTAMP:20260425T011957Z
UID:bf87462e-74fe-4ba7-b89a-ea9a74be2376
DTSTART;VALUE=DATE:20250701
DTEND;VALUE=DATE:20250701
DESCRIPTION:Blue Springs BMX
LOCATION:2715 Nw Park Drive  Blue Springs MO 64015 USA
SUMMARY:Practice
URL:/site/bmx_races/576010
END:VEVENT
END:VCALENDAR
