BEGIN:VCALENDAR
VERSION:2.0
PRODID:icalendar-ruby
CALSCALE:GREGORIAN
METHOD:PUBLISH
BEGIN:VEVENT
DTSTAMP:20260424T173625Z
UID:a7cae52c-3f1c-43ea-bd75-b6dbb9c5d681
DTSTART;VALUE=DATE:20251003
DTEND;VALUE=DATE:20251003
DESCRIPTION:Blue Springs BMX
LOCATION:2715 Nw Park Drive  Blue Springs MO 64015 USA
SUMMARY:Local Race Single
URL:/site/bmx_races/575990
END:VEVENT
END:VCALENDAR
