BEGIN:VCALENDAR
VERSION:2.0
PRODID:icalendar-ruby
CALSCALE:GREGORIAN
METHOD:PUBLISH
BEGIN:VEVENT
DTSTAMP:20260424T203947Z
UID:7a67088b-4e53-4066-a992-a38e02a81b73
DTSTART;VALUE=DATE:20251031
DTEND;VALUE=DATE:20251031
DESCRIPTION:Park City BMX
LOCATION:6801 N Hydraulic  Park City KS 67219 USA
SUMMARY:Local Race Single
URL:/site/bmx_races/575784
END:VEVENT
END:VCALENDAR
