BEGIN:VCALENDAR
VERSION:2.0
PRODID:icalendar-ruby
CALSCALE:GREGORIAN
METHOD:PUBLISH
BEGIN:VEVENT
DTSTAMP:20260424T164006Z
UID:7b84478e-9be4-41ca-a101-f63e9d7f038f
DTSTART;VALUE=DATE:20251223
DTEND;VALUE=DATE:20251223
DESCRIPTION:Whitney Mesa BMX
LOCATION:1575 Galleria Dr  Henderson NV 89014 USA
SUMMARY:Practice
URL:/site/bmx_races/575734
END:VEVENT
END:VCALENDAR
