BEGIN:VCALENDAR
VERSION:2.0
PRODID:icalendar-ruby
CALSCALE:GREGORIAN
METHOD:PUBLISH
BEGIN:VEVENT
DTSTAMP:20260426T040103Z
UID:a8c27957-c949-4c2c-94e5-3eab57f65770
DTSTART;VALUE=DATE:20250901
DTEND;VALUE=DATE:20250901
DESCRIPTION:Deseret Peak BMX 
LOCATION:2930 West Hwy 112  Tooele UT 84074 USA
SUMMARY:Local Race Single
URL:/site/bmx_races/575523
END:VEVENT
END:VCALENDAR
