BEGIN:VCALENDAR
VERSION:2.0
PRODID:icalendar-ruby
CALSCALE:GREGORIAN
METHOD:PUBLISH
BEGIN:VEVENT
DTSTAMP:20260426T040012Z
UID:c98cb168-8644-4ff1-b75f-a6a42c922f24
DTSTART;VALUE=DATE:20251010
DTEND;VALUE=DATE:20251010
DESCRIPTION:Deseret Peak BMX 
LOCATION:2930 West Hwy 112  Tooele UT 84074 USA
SUMMARY:Local Race Single
URL:/site/bmx_races/575488
END:VEVENT
END:VCALENDAR
