BEGIN:VCALENDAR
VERSION:2.0
PRODID:icalendar-ruby
CALSCALE:GREGORIAN
METHOD:PUBLISH
BEGIN:VEVENT
DTSTAMP:20260424T164808Z
UID:1a82e283-a35c-4f27-9f4b-bedf79c2e906
DTSTART;VALUE=DATE:20251006
DTEND;VALUE=DATE:20251006
DESCRIPTION:Cabot BMX
LOCATION:2351 Willie Ray Road  Cabot AR 72023 USA
SUMMARY:Practice
URL:/site/bmx_races/575366
END:VEVENT
END:VCALENDAR
