BEGIN:VCALENDAR
VERSION:2.0
PRODID:icalendar-ruby
CALSCALE:GREGORIAN
METHOD:PUBLISH
BEGIN:VEVENT
DTSTAMP:20260425T031413Z
UID:16f8d4f9-bd08-4241-8e4e-4a6cdc50d02b
DTSTART;VALUE=DATE:20250303
DTEND;VALUE=DATE:20250303
DESCRIPTION:Cabot BMX
LOCATION:2351 Willie Ray Road  Cabot AR 72023 USA
SUMMARY:Practice
URL:/site/bmx_races/575283
END:VEVENT
END:VCALENDAR
