BEGIN:VCALENDAR
VERSION:2.0
PRODID:icalendar-ruby
CALSCALE:GREGORIAN
METHOD:PUBLISH
BEGIN:VEVENT
DTSTAMP:20260425T110914Z
UID:456f5b41-f6d9-4b8c-ad25-6dc14382a6f1
DTSTART;VALUE=DATE:20241116
DTEND;VALUE=DATE:20241116
DESCRIPTION:Cowtown BMX
LOCATION:447 Haltom Rd  Ft. Worth TX 76117 USA
SUMMARY:Earned Double
URL:/site/bmx_races/575124
END:VEVENT
END:VCALENDAR
