BEGIN:VCALENDAR
VERSION:2.0
PRODID:icalendar-ruby
CALSCALE:GREGORIAN
METHOD:PUBLISH
BEGIN:VEVENT
DTSTAMP:20260424T234907Z
UID:af562755-889e-47c5-92f9-00596fe3ccf1
DTSTART;VALUE=DATE:20250625
DTEND;VALUE=DATE:20250625
DESCRIPTION:Speedway BMX
LOCATION:5639 Benore  Toledo OH 43612 USA
SUMMARY:Local Race Single
URL:/site/bmx_races/574944
END:VEVENT
END:VCALENDAR
