BEGIN:VCALENDAR
VERSION:2.0
PRODID:icalendar-ruby
CALSCALE:GREGORIAN
METHOD:PUBLISH
BEGIN:VEVENT
DTSTAMP:20260424T234812Z
UID:f33f3019-0a9f-40e4-829c-ea1d7d06a8fc
DTSTART;VALUE=DATE:20250618
DTEND;VALUE=DATE:20250618
DESCRIPTION:Speedway BMX
LOCATION:5639 Benore  Toledo OH 43612 USA
SUMMARY:Local Race Single
URL:/site/bmx_races/574943
END:VEVENT
END:VCALENDAR
