BEGIN:VCALENDAR
VERSION:2.0
PRODID:icalendar-ruby
CALSCALE:GREGORIAN
METHOD:PUBLISH
BEGIN:VEVENT
DTSTAMP:20260425T234746Z
UID:4a545c95-65c9-464f-8a65-f6e3b4dd227a
DTSTART;VALUE=DATE:20250706
DTEND;VALUE=DATE:20250706
DESCRIPTION:Drake Well BMX
LOCATION:516 Allen St  Titusville PA 16354 USA
SUMMARY:Local Race Single
URL:/site/bmx_races/574904
END:VEVENT
END:VCALENDAR
