BEGIN:VCALENDAR
VERSION:2.0
PRODID:icalendar-ruby
CALSCALE:GREGORIAN
METHOD:PUBLISH
BEGIN:VEVENT
DTSTAMP:20260424T065954Z
UID:934c6019-2201-48e5-a041-0f1e93c8a250
DTSTART;VALUE=DATE:20250705
DTEND;VALUE=DATE:20250705
DESCRIPTION:Cabot BMX
LOCATION:2351 Willie Ray Road  Cabot AR 72023 USA
SUMMARY:Gold Cup Qualifier Triple
URL:/site/bmx_races/574481
END:VEVENT
END:VCALENDAR
