BEGIN:VCALENDAR
VERSION:2.0
PRODID:icalendar-ruby
CALSCALE:GREGORIAN
METHOD:PUBLISH
BEGIN:VEVENT
DTSTAMP:20260426T023257Z
UID:0319f3ea-454a-4be4-b284-fc9e2d255ef0
DTSTART;VALUE=DATE:20251029
DTEND;VALUE=DATE:20251029
DESCRIPTION:Rockford BMX
LOCATION:4950 Safford Rd  Rockford IL 61101 USA
SUMMARY:Local Race Single
URL:/site/bmx_races/574318
END:VEVENT
END:VCALENDAR
