BEGIN:VCALENDAR
VERSION:2.0
PRODID:icalendar-ruby
CALSCALE:GREGORIAN
METHOD:PUBLISH
BEGIN:VEVENT
DTSTAMP:20260424T233640Z
UID:a4d0f957-4cee-4f13-a24e-d78e82117683
DTSTART;VALUE=DATE:20250928
DTEND;VALUE=DATE:20250928
DESCRIPTION:Rockford BMX
LOCATION:4950 Safford Rd  Rockford IL 61101 USA
SUMMARY:Local Race Single
URL:/site/bmx_races/574286
END:VEVENT
END:VCALENDAR
