BEGIN:VCALENDAR
VERSION:2.0
PRODID:icalendar-ruby
CALSCALE:GREGORIAN
METHOD:PUBLISH
BEGIN:VEVENT
DTSTAMP:20260425T141939Z
UID:e0974141-41b1-453a-9ed3-c02025c982b0
DTSTART;VALUE=DATE:20250427
DTEND;VALUE=DATE:20250427
DESCRIPTION:Rockford BMX
LOCATION:4950 Safford Rd  Rockford IL 61101 USA
SUMMARY:Local Race Single
URL:/site/bmx_races/574264
END:VEVENT
END:VCALENDAR
