BEGIN:VCALENDAR
VERSION:2.0
PRODID:icalendar-ruby
CALSCALE:GREGORIAN
METHOD:PUBLISH
BEGIN:VEVENT
DTSTAMP:20260424T233642Z
UID:887c7a35-12bc-4b2a-9e24-a7b9a9555df3
DTSTART;VALUE=DATE:20250120
DTEND;VALUE=DATE:20250120
DESCRIPTION:Bellflower BMX
LOCATION:9030 Somerset Blvd  Bellflower CA 90706 USA
SUMMARY:Local Race Single
URL:/site/bmx_races/574106
END:VEVENT
END:VCALENDAR
