BEGIN:VCALENDAR
VERSION:2.0
PRODID:icalendar-ruby
CALSCALE:GREGORIAN
METHOD:PUBLISH
BEGIN:VEVENT
DTSTAMP:20260424T221852Z
UID:b747fd0b-d9c6-4d2f-9c52-6ad3780feb3e
DTSTART;VALUE=DATE:20250915
DTEND;VALUE=DATE:20250915
DESCRIPTION:Heartland BMX
LOCATION:4801 Sw Shunga Dr  Topeka KS 66614 USA
SUMMARY:Practice
URL:/site/bmx_races/573862
END:VEVENT
END:VCALENDAR
