BEGIN:VCALENDAR
VERSION:2.0
PRODID:icalendar-ruby
CALSCALE:GREGORIAN
METHOD:PUBLISH
BEGIN:VEVENT
DTSTAMP:20260424T234822Z
UID:34b01985-302f-446e-9cce-07e586414743
DTSTART;VALUE=DATE:20250811
DTEND;VALUE=DATE:20250811
DESCRIPTION:Heartland BMX
LOCATION:4801 Sw Shunga Dr  Topeka KS 66614 USA
SUMMARY:Practice
URL:/site/bmx_races/573857
END:VEVENT
END:VCALENDAR
